BEGIN:VCALENDAR
VERSION:2.0
PRODID:-//Groworking - ECPv5.5.0.1//NONSGML v1.0//EN
CALSCALE:GREGORIAN
METHOD:PUBLISH
X-WR-CALNAME:Groworking
X-ORIGINAL-URL:https://www.groworking.com.br
X-WR-CALDESC:Eventos para Groworking
BEGIN:VTIMEZONE
TZID:America/Sao_Paulo
BEGIN:STANDARD
TZOFFSETFROM:-0300
TZOFFSETTO:-0300
TZNAME:-03
DTSTART:20200101T000000
END:STANDARD
END:VTIMEZONE
BEGIN:VEVENT
DTSTART;TZID=America/Sao_Paulo:20200307T090000
DTEND;TZID=America/Sao_Paulo:20200307T170000
DTSTAMP:20260420T013029
CREATED:20200103T144043Z
LAST-MODIFIED:20200226T213238Z
UID:1899-1583571600-1583600400@www.groworking.com.br
SUMMARY:Vida Organizada - Técnicas para Organização Pessoal
DESCRIPTION:Descrição\nEste curso foi idealizado para pessoas que querem ampliar os seus conhecimentos em organização pessoal\, independentemente da situação em que se encontrem atualmente: \nOrganizados que querem melhorar sua organização; \nDesorganizados que se atrasam com frequência para compromissos e projetos; \nPerdidos na organização de suas rotinas e tarefas profissionais\, pessoais\, escolares e domésticas. \nAtolados e improdutivos em multitarefas. \nSem foco e sem planejamento. \nDesesperados por terem perdido o controle sobre suas ações e sobre a administração do uso do tempo. \nAngustiados em meio a tantos papéis e documentos sem saber como organizar o seu espaço de trabalho ou de administração pessoal. \nSe você se encaixa em pelo menos uma destas opções\, este curso é para você! \nO objetivo principal deste treinamento é capacitar os participantes com técnicas de organização pessoal e autoconhecimento\, transmitindo os conhecimentos necessários para que cada um possa organizar seus objetivos\, projetos\, rotinas e tarefas. O conteúdo do curso é baseado em estudos sobre o comportamento humano e consagradas metodologias de organização e produtividade. \nCONTEÚDO DO CURSO: \n\nA importância da organização pessoal e seus reflexos positivos;\nSe ocupar não é produzir;\nComo resolver o acúmulo de pendências (Backlog);\nConhecendo as ferramentas de organização pessoal;\nPasso a passo para se organizar usando as ferramentas de organização;\nComo administrar suas ações para ter o controle sobre caixas de entrada de informações físicas e digitais;\nComo manter o seu espaço de trabalho organizado;\nEntenda as técnicas de organização de documentos\, papéis e seus prazos de expurgo;\nTenha o controle sobre a administração domésticas (Listas de compras\, planilhas de limpeza e cardápios semanais).\n\nEm cada capítulo\, o foco será sempre na mudança e no aperfeiçoamento de seus hábitos e ações\, melhorando sua postura diante dos seus compromissos e tarefas do dia a dia. Nosso foco é a sua mente e como ela pode ser moldada para um novo tipo de comportamento diante da sua rotina. \nDIFERENCIAL DO CURSO: \nCada turma terá direito a uma assessoria\, via grupo exclusivo no WhatsApp\, por 30 dias\, para aplicar as técnicas aprendidas no curso e tirar suas dúvidas na prática. Este canal também será utilizado para troca de informações\, formulário e textos que complementarão o aprendizado. \nJunte-se a nós neste mundo onde a ordem te leva mais rápido rumo aos seus objetivos. \nVamos juntos descobrir como a organização pode transformar positivamente a sua vida.
URL:https://www.groworking.com.br/evento/vida-organizada-tecnicas-para-organizacao-pessoal/
LOCATION:Groworking\, R. Padre Joaquim Franco de Camargo Júnior\, N. 135 - Jardim Montezuma\, Limeira\, SP\, 13480-361\, Brasil
ATTACH;FMTTYPE=image/png:https://www.groworking.com.br/wp-content/uploads/2020/01/ddddd.png
END:VEVENT
END:VCALENDAR