BEGIN:VCALENDAR
VERSION:2.0
PRODID:-//Groworking - ECPv5.5.0.1//NONSGML v1.0//EN
CALSCALE:GREGORIAN
METHOD:PUBLISH
X-WR-CALNAME:Groworking
X-ORIGINAL-URL:https://www.groworking.com.br
X-WR-CALDESC:Eventos para Groworking
BEGIN:VTIMEZONE
TZID:America/Sao_Paulo
BEGIN:STANDARD
TZOFFSETFROM:-0200
TZOFFSETTO:-0300
TZNAME:-03
DTSTART:20190217T020000
END:STANDARD
END:VTIMEZONE
BEGIN:VEVENT
DTSTART;TZID=America/Sao_Paulo:20191010T193000
DTEND;TZID=America/Sao_Paulo:20191010T213000
DTSTAMP:20260419T221713
CREATED:20191007T201143Z
LAST-MODIFIED:20191007T205351Z
UID:1875-1570735800-1570743000@www.groworking.com.br
SUMMARY:Regressão à infância
DESCRIPTION:Você já se perguntou por que…\n– Alguns tem sucesso e outras fracasso na vida profissional?\n– Alguns são felizes no amor e outras parece que tem dedo podre?\n– Alguns casam cedo e outras tem medo de se casar?\n– Alguns são atléticos e outros não cuidam do corpo?\n– Alguns estão sempre alegres e outros depressivos? \nA resposta para todas estas perguntas pode estar na SUA INFÂNCIA! \nNesta palestra eu vou te mostrar:\n– Como a infância impacta em todas as áreas da sua vida até hoje;\n– Como cuidar da sua criança interior para ter sucesso na sua carreira\, no amor e na sua saúde. \nComo temos poucos lugares\, estamos cobrando um valor simbólico apenas para limitar as vagas.\nGaranta agora o seu lugar!
URL:https://www.groworking.com.br/evento/regressao-a-infancia/
LOCATION:Groworking\, R. Padre Joaquim Franco de Camargo Júnior\, N. 135 - Jardim Montezuma\, Limeira\, SP\, 13480-361\, Brasil
ATTACH;FMTTYPE=image/png:https://www.groworking.com.br/wp-content/uploads/2019/10/555.png
END:VEVENT
END:VCALENDAR