BEGIN:VCALENDAR
VERSION:2.0
PRODID:-//Groworking - ECPv5.5.0.1//NONSGML v1.0//EN
CALSCALE:GREGORIAN
METHOD:PUBLISH
X-WR-CALNAME:Groworking
X-ORIGINAL-URL:https://www.groworking.com.br
X-WR-CALDESC:Eventos para Groworking
BEGIN:VTIMEZONE
TZID:America/Sao_Paulo
BEGIN:STANDARD
TZOFFSETFROM:-0200
TZOFFSETTO:-0300
TZNAME:-03
DTSTART:20190217T020000
END:STANDARD
END:VTIMEZONE
BEGIN:VEVENT
DTSTART;TZID=America/Sao_Paulo:20191109T090000
DTEND;TZID=America/Sao_Paulo:20191109T150000
DTSTAMP:20260419T205717
CREATED:20190910T125335Z
LAST-MODIFIED:20191023T005709Z
UID:1809-1573290000-1573311600@www.groworking.com.br
SUMMARY:Opções Binárias
DESCRIPTION:6 horas de treinamento \nConteúdo do treinamento; \n• Análise gráfica \n• Análise técnica \n• Análise fundamentalista \n• Análise probabilística \n• Gerenciamento de risco \n• Estrategias
URL:https://www.groworking.com.br/evento/opcoes-binarias/
LOCATION:Groworking\, R. Padre Joaquim Franco de Camargo Júnior\, N. 135 - Jardim Montezuma\, Limeira\, SP\, 13480-361\, Brasil
ATTACH;FMTTYPE=image/jpeg:https://www.groworking.com.br/wp-content/uploads/2019/09/WhatsApp-Image-2019-08-20-at-23.53.17.jpeg
END:VEVENT
END:VCALENDAR