BEGIN:VCALENDAR
VERSION:2.0
PRODID:-//Groworking - ECPv5.5.0.1//NONSGML v1.0//EN
CALSCALE:GREGORIAN
METHOD:PUBLISH
X-WR-CALNAME:Groworking
X-ORIGINAL-URL:https://www.groworking.com.br
X-WR-CALDESC:Eventos para Groworking
BEGIN:VTIMEZONE
TZID:America/Sao_Paulo
BEGIN:STANDARD
TZOFFSETFROM:-0300
TZOFFSETTO:-0300
TZNAME:-03
DTSTART:20200101T000000
END:STANDARD
END:VTIMEZONE
BEGIN:VEVENT
DTSTART;TZID=America/Sao_Paulo:20200321T090000
DTEND;TZID=America/Sao_Paulo:20200321T120000
DTSTAMP:20260420T024330
CREATED:20200228T152833Z
LAST-MODIFIED:20200304T152527Z
UID:1927-1584781200-1584792000@www.groworking.com.br
SUMMARY:MASTERCLASS +2d
DESCRIPTION:Conheça as estratégias que vendedores e empreendedores tem utilizado para aumentar de +10% a +99% as suas Vendas B2B. \nNessa Masterclass\, você terá uma aula completa e irá aprender as novas estratégicas e técnicas que pessoas comuns têm utilizado para aumentar os seus resultados em Vendas B2B (Vendas para Empresas). \n> 3 Horas de conteúdo com profundidade\n> Técnicas e Ferramentas para escalar os seus resultados\n> A nova forma de vender\n> 100% prático\n> Método Testado e Comprovado \nSerá a primeira vez que irei disponibilizar esse conteúdo em Limeira. \nEssa Masterclass é especialmente para você: \n> Vendedor\n> Gerente de Vendas\n> Diretor\n> Empreendedor \nReserve agora a sua vaga\, pois as vagas são limitadas. \n======================================================================= \nPara dúvidas ou suporte sobre o evento\, é só enviar uma mensagem para: \nEmail: suporte@resultadomemoravel.com.br \nWhatsApp: (19) 98894-3030
URL:https://www.groworking.com.br/evento/masterclass-2d/
LOCATION:Groworking\, R. Padre Joaquim Franco de Camargo Júnior\, N. 135 - Jardim Montezuma\, Limeira\, SP\, 13480-361\, Brasil
ATTACH;FMTTYPE=image/png:https://www.groworking.com.br/wp-content/uploads/2020/02/resiltatomemoravel.png
END:VEVENT
END:VCALENDAR