BEGIN:VCALENDAR
VERSION:2.0
PRODID:-//Groworking - ECPv5.5.0.1//NONSGML v1.0//EN
CALSCALE:GREGORIAN
METHOD:PUBLISH
X-WR-CALNAME:Groworking
X-ORIGINAL-URL:https://www.groworking.com.br
X-WR-CALDESC:Eventos para Groworking
BEGIN:VTIMEZONE
TZID:America/Sao_Paulo
BEGIN:STANDARD
TZOFFSETFROM:-0200
TZOFFSETTO:-0300
TZNAME:-03
DTSTART:20190217T020000
END:STANDARD
END:VTIMEZONE
BEGIN:VEVENT
DTSTART;TZID=America/Sao_Paulo:20190830T180000
DTEND;TZID=America/Sao_Paulo:20190830T210000
DTSTAMP:20260419T221543
CREATED:20190814T153211Z
LAST-MODIFIED:20190814T161943Z
UID:1733-1567188000-1567198800@www.groworking.com.br
SUMMARY:Exposição Fotográfica - "Rituais Cerimoniais"
DESCRIPTION:  \nNos dias 30 e 31 de agosto acontecerá no Groworking uma exposição fotográficas voltada para noivas. O tema será “Rituais Cerimoniais” e vários fotógrafos já confirmaram presença. O evento será aberto ao público. \nAnote em sua agenda e não perca essa exposição. 🙂
URL:https://www.groworking.com.br/evento/exposicao-fotografica-rituais-cerimoniais/
LOCATION:Groworking\, R. Padre Joaquim Franco de Camargo Júnior\, N. 135 - Jardim Montezuma\, Limeira\, SP\, 13480-361\, Brasil
ATTACH;FMTTYPE=image/jpeg:https://www.groworking.com.br/wp-content/uploads/2019/08/post.jpg
ORGANIZER;CN="Groworking":MAILTO:contato@groworking.com.br
END:VEVENT
END:VCALENDAR