BEGIN:VCALENDAR
VERSION:2.0
PRODID:-//Groworking - ECPv5.5.0.1//NONSGML v1.0//EN
CALSCALE:GREGORIAN
METHOD:PUBLISH
X-WR-CALNAME:Groworking
X-ORIGINAL-URL:https://www.groworking.com.br
X-WR-CALDESC:Eventos para Groworking
BEGIN:VTIMEZONE
TZID:America/Sao_Paulo
BEGIN:STANDARD
TZOFFSETFROM:-0300
TZOFFSETTO:-0300
TZNAME:-03
DTSTART:20200101T000000
END:STANDARD
END:VTIMEZONE
BEGIN:VEVENT
DTSTART;TZID=America/Sao_Paulo:20200109T090000
DTEND;TZID=America/Sao_Paulo:20200109T120000
DTSTAMP:20260420T012048
CREATED:20191203T142335Z
LAST-MODIFIED:20191203T142415Z
UID:1886-1578560400-1578571200@www.groworking.com.br
SUMMARY:Curso de edição fotográfica de Newborn
DESCRIPTION:1º Edição Bebê Perfeito está disponível para fotógrafos amadores e profissionais\, aplicando conceitos e técnicas onde conseguiremos um resultado perfeito trataremos de:\n• Correção de Cores\n• Remoção de itens\n( pelinhas\, bolinhas e fiozinhos )\n• Alisamento de fundo\n• Alisamento de Pele\n• Aumentar Bumbum ou diminuir\n• Aumentar a Cabeça ou diminuir\n• Suavizar as Olheiras\n• Correção de cores com camadas para arrumar a pigmentação da pele\n(Correção de icterícia e pé roxo)\n• Dicas de correção \, finalização\, filtros.\ne muito mais!\n.\n.\n► Valores promocionais. Até dia 20/12 Garanta já a sua vaga!\nApenas R$350\,00 à vista ou R$400\,00 dividido em 8x
URL:https://www.groworking.com.br/evento/curso-de-edicao-fotografica-de-newborn/
LOCATION:Groworking\, R. Padre Joaquim Franco de Camargo Júnior\, N. 135 - Jardim Montezuma\, Limeira\, SP\, 13480-361\, Brasil
ATTACH;FMTTYPE=image/jpeg:https://www.groworking.com.br/wp-content/uploads/2019/12/c71516af-6d6a-4d6f-b133-3af6e39a3153.jpg
ORGANIZER;CN="Giselle%20Gatti":MAILTO:contato@gisellegatti.com.br
END:VEVENT
END:VCALENDAR