BEGIN:VCALENDAR
VERSION:2.0
PRODID:-//Groworking - ECPv5.5.0.1//NONSGML v1.0//EN
CALSCALE:GREGORIAN
METHOD:PUBLISH
X-WR-CALNAME:Groworking
X-ORIGINAL-URL:https://www.groworking.com.br
X-WR-CALDESC:Eventos para Groworking
BEGIN:VTIMEZONE
TZID:America/Sao_Paulo
BEGIN:STANDARD
TZOFFSETFROM:-0300
TZOFFSETTO:-0300
TZNAME:-03
DTSTART:20200101T000000
END:STANDARD
END:VTIMEZONE
BEGIN:VEVENT
DTSTART;TZID=America/Sao_Paulo:20200220T193000
DTEND;TZID=America/Sao_Paulo:20200220T203000
DTSTAMP:20260420T012700
CREATED:20200206T170829Z
LAST-MODIFIED:20200207T145145Z
UID:1913-1582227000-1582230600@www.groworking.com.br
SUMMARY:Como Investir em 2020?
DESCRIPTION:Quer saber os melhores caminhos para investir em 2020? \nJailson de Oliveira Silva (Manhattan Investimentos São Paulo\, escritório de agentes autônomos contratado pela XP Investimentos) virá ao Groworking apontar os melhores caminhos do ano. \nEntenda como um agente autônomo de investimentos poderá lhe ajudar a compreender o panorama e expectativas do mercado\, as alternativas de investimentos\, Selic\, poupança e\nPrevidência.
URL:https://www.groworking.com.br/evento/como-investir-em-2020/
LOCATION:Groworking\, R. Padre Joaquim Franco de Camargo Júnior\, N. 135 - Jardim Montezuma\, Limeira\, SP\, 13480-361\, Brasil
ATTACH;FMTTYPE=image/jpeg:https://www.groworking.com.br/wp-content/uploads/2020/02/WhatsApp-Image-2020-02-06-at-12.20.03.jpeg
ORGANIZER;CN="Groworking":MAILTO:contato@groworking.com.br
END:VEVENT
END:VCALENDAR