BEGIN:VCALENDAR
VERSION:2.0
PRODID:-//Groworking - ECPv5.5.0.1//NONSGML v1.0//EN
CALSCALE:GREGORIAN
METHOD:PUBLISH
X-WR-CALNAME:Groworking
X-ORIGINAL-URL:https://www.groworking.com.br
X-WR-CALDESC:Eventos para Groworking
BEGIN:VTIMEZONE
TZID:America/Sao_Paulo
BEGIN:STANDARD
TZOFFSETFROM:-0300
TZOFFSETTO:-0300
TZNAME:-03
DTSTART:20200101T000000
END:STANDARD
END:VTIMEZONE
BEGIN:VEVENT
DTSTART;TZID=America/Sao_Paulo:20200311T090000
DTEND;TZID=America/Sao_Paulo:20200311T170000
DTSTAMP:20260420T024024
CREATED:20200103T143047Z
LAST-MODIFIED:20200226T213041Z
UID:1897-1583917200-1583946000@www.groworking.com.br
SUMMARY:Casa Organizada Limeira Turma 11 e 18 de março
DESCRIPTION:Descrição\nO curso foi idealizado para pessoas que querem ampliar os seus conhecimentos em organização residencial\, independentemente da situação em que se encontrem atualmente: \n\n\nOrganizados que querem melhorar sua organização.\n\n\nDesorganizados que querem apenas um pouco de ordem em seus ambientes para facilitar suas rotinas.\n\n\nDesesperados que já perderam o controle e que atualmente são dominados fisicamente e emocionalmente pelos seus pertences.\n\n\nProfissionais\, ou futuros profissionais\, da área de organização residencial.\n\n\nPessoas que moram sozinhas\, com famílias pequenas ou com famílias grandes.\n\n\nPessoas que trabalham fora o dia todo e tem pouco tempo para cuidar do lar e para pessoas que tem tempo integral para estes cuidados.\n\n\nPara ambientes grandes e espaçosos e para ambientes pequenos e restritos.\n\n\nO objetivo principal deste treinamento é capacitar os participantes com técnicas de organização residencial\, passo a passo\, cômodo a cômodo\, e transmitir os conhecimentos necessários para que cada um possa organizar seus ambientes\, sua mente\, seus hábitos e suas ações\, melhorando assim o relacionamento com seus pertences e com sua casa. \n– CONTEÚDO DO CURSO\n\n\nA importância da organização e seus reflexos diversos.\n\n\nDesapego e destralhamento.\n\n\nClosets e guarda-roupas. (com Oficina de dobras)\n\n\nBanheiros.\n\n\nQuartos.\n\n\nRoupeiros.\n\n\nSalas.\n\n\nCozinhas.\n\n\nÁreas de serviço.\n\n\nMaquiagem\, medicamentos e tecnologia.\n\n\nCada capítulo trará técnicas de descarte e dicas profissionais em relação à organização de cada cantinho de uma casa\, com oficina de dobras na prática e estratégias para resolver problemas com a falta de espaço. \nDIFERENCIAL DO CURSO\nCada turma terá direito à uma assessoria\, via grupo exclusivo no WhatsApp\, por 30 dias\, para aplicar as técnicas aprendidas no curso em sua própria casa. \nVamos juntos descobrir como a organização pode transformar positivamente a sua vida.
URL:https://www.groworking.com.br/evento/casa-organizada-limeira-turma-iii-2020/
LOCATION:Groworking\, R. Padre Joaquim Franco de Camargo Júnior\, N. 135 - Jardim Montezuma\, Limeira\, SP\, 13480-361\, Brasil
ATTACH;FMTTYPE=image/png:https://www.groworking.com.br/wp-content/uploads/2020/01/ffff.png
END:VEVENT
END:VCALENDAR