BEGIN:VCALENDAR
VERSION:2.0
PRODID:-//Groworking - ECPv5.5.0.1//NONSGML v1.0//EN
CALSCALE:GREGORIAN
METHOD:PUBLISH
X-WR-CALNAME:Groworking
X-ORIGINAL-URL:https://www.groworking.com.br
X-WR-CALDESC:Eventos para Groworking
BEGIN:VTIMEZONE
TZID:America/Sao_Paulo
BEGIN:STANDARD
TZOFFSETFROM:-0200
TZOFFSETTO:-0300
TZNAME:-03
DTSTART:20190217T020000
END:STANDARD
END:VTIMEZONE
BEGIN:VEVENT
DTSTART;TZID=America/Sao_Paulo:20190918T193000
DTEND;TZID=America/Sao_Paulo:20190918T213000
DTSTAMP:20260419T222042
CREATED:20190910T130709Z
LAST-MODIFIED:20190910T185631Z
UID:1813-1568835000-1568842200@www.groworking.com.br
SUMMARY:Como aumentar os lucros do meu negócio?
DESCRIPTION:Palestra: COMO AUMENTAR OS LUCROS DO MEU NEGÓCIO? \nConfirme sua presença neste evento VIP pelo  telefone 019 3703-0858 \nEsperamos por você!
URL:https://www.groworking.com.br/evento/aumentaroslucros/
LOCATION:Groworking\, R. Padre Joaquim Franco de Camargo Júnior\, N. 135 - Jardim Montezuma\, Limeira\, SP\, 13480-361\, Brasil
ATTACH;FMTTYPE=image/png:https://www.groworking.com.br/wp-content/uploads/2019/09/image.png
END:VEVENT
END:VCALENDAR